Workbook
Name ____________A50: [1]Пер!$N$34
Name ____________A51: [1]Пер!$N$33
Name ____________HAV80: #REF!
Name ____________HAV80: #REF!
Name ____________HAV80: #REF!
Name ____________HAV80: #REF!
Name ____________HAV80: #REF!
Name ____________HAV80: #REF!
Name ____________HAV80: #REF!
Name ____________mes09: #REF!
Name ____________mes09: #REF!
Name ____________mes09: #REF!
Name ____________mes09: #REF!
Name ____________mes09: #REF!
Name ____________mes09: #REF!
Name ____________mes09: #REF!
Name ____________Mes1: #REF!
Name ____________Mes1: #REF!
Name ____________Mes1: #REF!
Name ____________Mes1: #REF!
Name ____________Mes1: #REF!
Name ____________Mes1: #REF!
Name ____________Mes1: #REF!
Name ____________Mes2: #REF!
Name ____________Mes2: #REF!
Name ____________Mes2: #REF!
Name ____________Mes2: #REF!
Name ____________Mes2: #REF!
Name ____________Mes2: #REF!
Name ____________Mes2: #REF!
Name ____________NS80: #REF!
Name ____________NS80: #REF!
Name ____________NS80: #REF!
Name ____________NS80: #REF!
Name ____________NS80: #REF!
Name ____________NS80: #REF!
Name ____________NS80: #REF!
Name ____________PCH3: #REF!
Name ____________PCH3: #REF!
Name ____________PCH3: #REF!
Name ____________PCH3: #REF!
Name ____________PCH3: #REF!
Name ____________PCH3: #REF!
Name ____________PCH3: #REF!
Name ____________PV3: #REF!
Name ____________PV3: #REF!
Name ____________PV3: #REF!
Name ____________PV3: #REF!
Name ____________PV3: #REF!
Name ____________PV3: #REF!
Name ____________PV3: #REF!
Name ___________A50: [2]Пер!$N$34
Name ___________A51: [2]Пер!$N$33
Name ___________HAV80: #REF!
Name ___________HAV80: #REF!
Name ___________HAV80: #REF!
Name ___________HAV80: #REF!
Name ___________HAV80: #REF!
Name ___________HAV80: #REF!
Name ___________HAV80: #REF!

Sheet Дод1 доходи
D1: Додаток 1
D2: до рішення ХХХІІ сесії сільської ради VIІI скликання
D3: від 15.10.2026 року № 1118
E4: (пункт 1)
A5: Зміни до обсягу доходів бюджету Ставненської сільської територіальної громади на 2026 рік
A6: 0755400000
A7: (код бюджету) | F7: (грн)
A8: Код | B8: Найменування згідно з Класифікацією доходів бюджету | C8: Усього | D8: Загальний фонд | E8: Спеціальний фонд
E9: усього | F9: у тому числі бюджет розвитку
A11: 1 | B11: 2 | C11: 3 | D11: 4 | E11: 5 | F11: 6
A12: 40000000 | B12: Офіційні трансферти | C12: =D12+E12 -> 16370300 | D12: =D13 -> 16370300 | E12: =E13 -> 0 | F12: =F13 -> 0
A13: 41000000 | B13: Від органів державного управління | C13: =D13+E13 -> 16370300 | D13: =D14 -> 16370300 | E13: =E14 -> 0 | F13: =F14 -> 0
A14: 41030000 | B14: Субвенції з державного бюджету місцевим бюджетам | C14: =D14+E14 -> 16370300 | D14: =SUM(D15:D17) -> 16370300 | E14: =SUM(E15:E15) -> 0 | F14: =SUM(F15:F15) -> 0
A15: 41033900 | B15: Освітня субвенція з державного бюджету місцевим бюджетам | C15: =D15+E15 -> 16894000 | D15: 16894000
A16: 41035400 | B16: Субвенція з державного бюджету місцевим бюджетам на надання державної підтримки особам з особливими освітніми потребами | C16: =D16+E16 -> 3000 | D16: 3000
A17: 41036300 | B17: Субвенція з державного бюджету місцевим бюджетам на здійснення доплат педагогічним працівникам закладів загальної середньої освіти | C17: =D17+E17 -> -526700 | D17: -526700
A18: X | B18: Разом доходів | C18: =D18+E18 -> 16370300 | D18: =D12 -> 16370300 | E18: =E12 -> 0 | F18: =F12 -> 0
A22: Секретар сільської ради | D22: Лариса РЕЙПАШІ

Sheet дод.2 джер
E1: Додаток 2
E2: до рішення ХХХІІ сесії сільської ради VIІI скликання
E3: від 15.10.2026 року № 1118
F4: (пункт 1)
A6: Зміни до обсягу фінансування бюджету Ставненської сільської територіальної громади на 2026 рік
B7: 0755400000
B8: (код бюджету)
F10: грн.
A11: Код | B11: Найменування згідно з Класифікацією фінансування бюджету | C11: Усього | D11: Загальний фонд | E11: Спеціальний фонд
E12: Усього | F12: у тому числі бюджет розвитку
A13: 1 | B13: 2 | C13: 3 | D13: 4 | E13: 5 | F13: 6
B14: Фінансування за типом кредитора
A15: 200000 | B15: Внутрішнє фінансування | C15: =D15+E15 -> 0 | D15: =D16 -> 300000 | E15: =E16 -> -300000 | F15: =F16 -> -300000
A16: 208000 | B16: Фінансування за рахунок зміни залишків коштів бюджетів | C16: =D16+E16 -> 0 | D16: =D17-D18+D19+D21 -> 300000 | E16: =E17-E18+E20+E21 -> -300000 | F16: =F17-F18+F20+F21 -> -300000
A17: 208100 | B17: На початок періоду | C17: =D17+E17 -> 0
A18: 208200 | B18: На кінець періоду | C18: =D18+E18 -> 0
A19: 208300 | B19: Інші розрахунки | C19: =D19+E19 -> 0 | D19: =D20 -> 0
A20: 208340 | B20: Інші розахунки | C20: =D20+E20 -> 0
A21: 208400 | B21: Кошти, що передаються із загального фонду бюджету до бюджету розвитку (спеціального фонду) | C21: =D21+E21 -> 0 | D21: 300000 | E21: -300000 | F21: -300000 | J21: =J22+J23 -> 300000
B22: Фінансування за типом боргового зобов'язання
A23: 600000 | B23: Фінансування за активними операціями | C23: =D23+E23 -> 0 | D23: =D24 -> 300000 | E23: =E24 -> -300000 | F23: =F24 -> -300000 | J23: =J24-E21 -> 300000
A24: 602000 | B24: Зміни обсягів готівкових коштів | C24: =D24+E24 -> 0 | D24: =D25-D26+D27+D29 -> 300000 | E24: =E25-E26+E28+E29 -> -300000 | F24: =F25-F26+F28+F29 -> -300000
A25: 602100 | B25: На початок періоду | C25: =D25+E25 -> 0 | D25: =D17 -> 0 | E25: =E17 -> 0 | F25: =F17 -> 0
A26: 602200 | B26: На кінець періоду | C26: =D26+E26 -> 0 | D26: =D18 -> 0 | E26: =E18 -> 0 | F26: =F18 -> 0
A27: 602300 | B27: Інші розрахунки | C27: =D27+E27 -> 0 | D27: =D19 -> 0 | E27: =E19 -> 0 | F27: =F19 -> 0
A28: 602304 | B28: Інші розахунки | C28: =D28+E28 -> 0 | D28: =D20 -> 0 | E28: =E20 -> 0 | F28: =F20 -> 0
A29: 602400 | B29: Кошти, що передаються із загального фонду бюджету до бюджету розвитку (спеціального фонду) | C29: =D29+E29 -> 0 | D29: =D21 -> 300000 | E29: =E21 -> -300000 | F29: =F21 -> -300000
B33: Секретар сільської ради | D33: Лариса РЕЙПАШІ
Q38: =Q39 -> 0

Sheet дод.3 видатки
N1: Додаток 3
M2: до рішення ХХХІІ сесії сільської ради VIІI скликання
M3: від 15.10.2026 року № 1118
O4: (пункт 2)
A5: Зміни до додатку 3 рішення сільської ради "Про бюджет Ставненської сільської територіальної громади на 2026 рік" – "Розподіл видатків бюджету Ставненської сільської територіальної громади на 2026 рік"
A6: 0755400000
A7: (код бюджету) | P7: грн
A8: Код Програмної класифікації видатків та кредитування місцевого бюджету | B8: Код Типової програмної класифікації видатків та кредиту- вання місцевого бюджету | C8: Код Функціональної класифікації видатків та кредитування бюджету | D8: Найменування головного розпорядника коштів місцевого бюджету/відповідального виконавця, найменування бюджетної програми згідно з Типовою програмною класифікацією видатків та кредитування місцевого бюджету | E8: Загальний фонд | J8: Спеціальний фонд | P8: Разом
E9: Усього | F9: видатки споживання | G9: з них | I9: видатки розвитку | J9: Усього | K9: у тому числі | L9: видатки споживання | M9: з них | O9: видатки розвитку
G10: оплата праці | H10: комунальні послуги та енергоносії | K10: бюджет розвитку | M10: оплата праці | N10: комунальні послуги та енергоносії
A12: 1 | B12: 2 | C12: 3 | D12: 4 | E12: 5 | F12: 6 | G12: 7 | H12: 8 | I12: 9 | J12: 10 | K12: 11 | L12: 12 | M12: 13 | N12: 14 | O12: 15 | P12: 16
A13: 0100000 | B13: 01 | D13: Ставненська сільська рада (головний розпорядник) | E13: 34139680 | F13: 30531048 | G13: 13840700 | H13: 3199100 | I13: 3608632 | J13: 200000 | K13: 0 | L13: 200000 | M13: 0 | N13: 0 | O13: 0 | P13: 34339680
A14: 0110000 | B14: 01 | D14: Ставненська сільська рада (відповідальний виконавець) | E14: 34139680 | F14: 30531048 | G14: 13840700 | H14: 3199100 | I14: 3608632 | J14: 200000 | K14: 0 | L14: 200000 | M14: 0 | N14: 0 | O14: 0 | P14: 34339680
A15: 0110150 | B15: 0150 | C15: 0111 | D15: Організаційне, інформаційно-аналітичне та матеріально-технічне забезпечення діяльності обласної ради, районної ради, районної у місті ради (у разі її створення), міської, селищної, сільської рад | E15: 17724080 | F15: 17724080 | G15: 12701200 | H15: 900000 | J15: 0 | P15: 17724080
A16: 0112152 | B16: 2152 | C16: 0763 | D16: Інші програми та заходи у сфері охорони здоров'я | E16: =F16+I16 -> 177500 | F16: =30000+70000+77500 -> 177500 | J16: =L16+O16 -> 0 | P16: =E16+J16 -> 177500
A17: 0116030 | B17: 6030 | C17: 0620 | D17: Організація благоустрою населених пунктів | E17: =F17+I17 -> 3971576 | F17: =300000+1200000+400000+1300000-153924+300000+200000-300000+299100 -> 3545176 | H17: =400000+1300000+300000+299100 -> 2299100 | I17: =515000-88600 -> 426400 | J17: =L17+O17 -> 0 | P17: =E17+J17 -> 3971576
A18: 0117461 | B18: 7461 | C18: 0456 | D18: Утримання та розвиток автомобільних доріг та дорожньої інфраструктури за рахунок коштів місцевого бюджету | E18: =F18+I18 -> 2668600 | F18: =500000+255500+200000-255500-120000 -> 580000 | I18: =1923600+255500-90500 -> 2088600 | J18: =L18+O18 -> 0 | P18: =E18+J18 -> 2668600
A19: 0118130 | B19: 8130 | C19: 0320 | D19: Забезпечення діяльності місцевої та добровільної пожежної охорони | E19: =F19+I19 -> 1105000 | F19: =605000+150000+200000+150000-182500+182500 -> 1105000 | G19: =605000+149500 -> 754500 | J19: =L19+O19 -> 0 | P19: =E19+J19 -> 1105000
A20: 0119800 | B20: 9800 | C20: 0180 | D20: Субвенція з місцевого бюджету державному бюджету на виконання програм соціально-економічного розвитку регіонів | E20: =F20+I20 -> 2065100 | F20: =400000+550000+100000 -> 1050000 | I20: =100000+815100-100000+200000 -> 1015100 | J20: =L20+O20 -> 0 | P20: =E20+J20 -> 2065100
A21: 0600000 | B21: 06 | D21: Відділ освіти, сім"ї, молоді та спорту, культури й туризму сільської ради (головний розпорядник) | E21: 86488000 | F21: 79858700 | G21: 53989368 | H21: 5693400 | I21: 6629300 | J21: 1974625 | K21: 1574625 | L21: 400000 | M21: 0 | N21: 0 | O21: 1574625 | P21: 88462625
A22: 0610000 | B22: 06 | D22: Відділ освіти, сім"ї, молоді та спорту, культури й туризму сільської ради (відповідальний розпорядник) | E22: 86488000 | F22: 79858700 | G22: 53989368 | H22: 5693400 | I22: 6629300 | J22: 1974625 | K22: 1574625 | L22: 400000 | M22: 0 | N22: 0 | O22: 1574625 | P22: 88462625
A23: 0610160 | B23: 0160 | C23: 0111 | D23: Керівництво і управління у відповідній сфері у містах (місті Києві), селищах, селах, об'єднаних територіальних громадах | E23: =F23+I23 -> 754000 | F23: =439100+96600+10000+2000+100000+106300 -> 754000 | G23: =439100+82000+87100 -> 608200 | J23: =L23+O23 -> 0 | P23: =E23+J23 -> 754000
A24: 0611010 | B24: 1010 | C24: 0910 | D24: Надання дошкільної освіти | E24: =F24+I24 -> 8997900 | F24: =2260000+520000+50000+8000+400000+140000+3400+600000+115000+4524000+40000+964800-500000-127300 -> 8997900 | G24: =2260000+3424000+787000-420000-104300 -> 5946700 | H24: =3400+600000+115000+264000 -> 982400 | J24: =L24+O24 -> 400000 | L24: 400000 | P24: =E24+J24 -> 9397900
A25: 0611021 | B25: 1021 | C25: 0921 | D25: Надання загальної середньої освіти закладами загальної середньої освіти за рахунок коштів місцевого бюджету | E25: =F25+I25 -> 21821800 | F25: =2300000+530000+1600000+600000+400000+946000+1400000+2000+1808000+3815000+674000+450700-125000+600000-100000+300000 -> 15200700 | G25: =2300000+826000+1914000-82000 -> 4958000 | H25: =946000+1400000+800000+1413000-125000 -> 4434000 | I25: =7267800-196000-450700 -> 6621100 | J25: =L25+O25 -> 0 | P25: =E25+J25 -> 21821800
A26: 0611031 | B26: 1031 | C26: 0921 | D26: Надання загальної середньої освіти закладами загальної середньої освіти за рахунок освітньої субвенції | E26: =F26+I26 -> 44102400 | F26: =22302000+4906400+16894000 -> 44102400 | G26: =22302000+13848000 -> 36150000 | J26: =L26+O26 -> 0 | P26: =E26+J26 -> 44102400
A27: 0611141 | B27: 1141 | C27: 0990 | D27: Забезпечення діяльності інших закладів у сфері освіти | E27: =F27+I27 -> 2023400 | F27: =1360000+302000+15000+17000+146400+183000 -> 2023400 | G27: =1360000+120000+150000 -> 1630000 | J27: =L27+O27 -> 0 | P27: =E27+J27 -> 2023400
A28: 0611200 | B28: 1200 | C28: 0990 | D28: Проведення (надання) додаткових психолого-педагогічних і корекційно-розвиткових занять (послуг) за рахунок субвенції з державного бюджету місцевим бюджетам на надання державної підтримки особам з особливими освітніми потребами | E28: =F28+I28 -> 6700 | F28: =3700+3000 -> 6700 | G28: =3030+2460 -> 5490 | J28: =L28+O28 -> 0 | P28: =E28+J28 -> 6700
A29: 0611600 | B29: 1600 | C29: 0990 | D29: Здійснення доплат педагогічним працівникам закладів загальної середньої освіти за рахунок субвенції з державного бюджету місцевим бюджетам | E29: =F29+I29 -> 2282300 | F29: =2342800+466200-526700 -> 2282300 | G29: =2342800-458022.2 -> 1884777.8 | J29: =L29+O29 -> 0 | P29: =E29+J29 -> 2282300
A30: 0614081 | B30: 4081 | C30: 0829 | D30: Забезпечення діяльності інших закладів в галузі культури і мистецтва | E30: =F30+I30 -> 3764600 | F30: =1219000+275000+13000+192000+2119400-62000 -> 3756400 | G30: =1219000+1638000-50800 -> 2806200 | H30: =192000+85000 -> 277000 | I30: 8200 | J30: =L30+O30 -> 0 | P30: =E30+J30 -> 3764600
A31: 0800000 | B31: 08 | D31: Відділ соціального забезпечення сільської ради (головний розпорядник) | E31: 8589500 | F31: 8489500 | G31: 4845700 | H31: 462800 | I31: 100000 | J31: 0 | K31: 0 | L31: 0 | M31: 0 | N31: 0 | O31: 0 | P31: 8589500
A32: 0810000 | B32: 08 | D32: Відділ соціального забезпечення сільської ради (відповідальний виконавець) | E32: 8589500 | F32: 8489500 | G32: 4845700 | H32: 462800 | I32: 100000 | J32: 0 | K32: 0 | L32: 0 | M32: 0 | N32: 0 | O32: 0 | P32: 8589500
A33: 0810160 | B33: 0160 | C33: 0111 | D33: Керівництво і управління у відповідній сфері у містах (місті Києві), селищах, селах, об"єднаних територіальних громадах | E33: =F33+I33 -> 1994400 | F33: =1486000+168400-20000+260000 -> 1894400 | G33: =1202000+138000+220000 -> 1560000 | I33: 100000 | J33: =L33+O33 -> 0 | P33: =E33+J33 -> 1994400
A34: 0813121 | B34: 3121 | C34: 1040 | D34: Здійснення соціальної роботи та надання соціальних послуг центрами соціальних служб та центрами надання соціальних послуг особам/сім’ям, які належать до вразливих груп населення та/або перебувають у складних життєвих обставинах | E34: =F34+I34 -> 4538100 | F34: =2700800+760000+1317300-240000 -> 4538100 | G34: =1877000+541000+1067700-200000 -> 3285700 | H34: =362800+100000 -> 462800 | J34: =L34+O34 -> 0 | P34: =E34+J34 -> 4538100
A35: 3700000 | B35: 37 | D35: Фінансовий відділ сільської ради (головний розпорядник) | E35: 3897100 | F35: 3497100 | G35: 1399900 | H35: 0 | I35: 400000 | J35: 0 | K35: 0 | L35: 0 | M35: 0 | N35: 0 | O35: 0 | P35: 3897100
A36: 3710000 | B36: 37 | D36: Фінансовий відділ сільської ради (відповідальний виконавець) | E36: 3897100 | F36: 3497100 | G36: 1399900 | H36: 0 | I36: 400000 | J36: 0 | K36: 0 | L36: 0 | M36: 0 | N36: 0 | O36: 0 | P36: 3897100
A37: 3710160 | B37: 0160 | C37: 0111 | D37: Керівництво і управління у відповідній сфері у містах (місті Києві), селищах, селах, об'єднаних територіальних громадах | E37: =F37+I37 -> 1747100 | F37: =1551900+195200-10900+10900 -> 1747100 | G37: =1230000+160000+9900 -> 1399900 | J37: =L37+O37 -> 0 | P37: =E37+J37 -> 1747100
D38: Разом видатків | E38: 133114280 | F38: 122376348 | G38: 74075668 | H38: 9355300 | I38: 10737932 | J38: 2174625 | K38: 1574625 | L38: 600000 | M38: 0 | N38: 0 | O38: 1574625 | P38: 135288905
D39: Секретар сільської ради | L39: Лариса РЕЙПАШІ
E41: =#REF!-'Дод1 доходи'!D18 -> #REF! | J41: =#REF!-'Дод1 доходи'!E18 -> #REF!
E46: =#REF!/#REF!*100 -> #REF! | G46: =#REF!/#REF!*100 -> #REF!
...

Sheet дод.3.1 
M1: Додаток 3.1
M2: до рішення ХХХІІ сесії сільської ради VIІI скликання
M3: від 15.10.2026 року № 1118
O4: (пункт 1)
A5: Зміни до розподілу видатків бюджету Ставненської сільської територіальної громади на 2026 рік
A6: 0755400000
A7: (код бюджету) | P7: грн
A8: Код Програмної класифікації видатків та кредитування місцевого бюджету | B8: Код Типової програмної класифікації видатків та кредиту- вання місцевого бюджету | C8: Код Функціональної класифікації видатків та кредитування бюджету | D8: Найменування головного розпорядника коштів місцевого бюджету/відповідального виконавця, найменування бюджетної програми згідно з Типовою програмною класифікацією видатків та кредитування місцевого бюджету | E8: Загальний фонд | J8: Спеціальний фонд | P8: Разом
E9: Усього | F9: видатки споживання | G9: з них | I9: видатки розвитку | J9: Усього | K9: у тому числі | L9: видатки споживання | M9: з них | O9: видатки розвитку
G10: оплата праці | H10: комунальні послуги та енергоносії | K10: бюджет розвитку | M10: оплата праці | N10: комунальні послуги та енергоносії
A12: 1 | B12: 2 | C12: 3 | D12: 4 | E12: 5 | F12: 6 | G12: 7 | H12: 8 | I12: 9 | J12: 10 | K12: 11 | L12: 12 | M12: 13 | N12: 14 | O12: 15 | P12: 16
A13: І. У межах змін обсягу доходів: | E13: =F13+I13 -> 16370300 | F13: =F14+F18+F22 -> 16370300 | G13: =G14+G18+G22 -> 13392438 | H13: =H14+H18+H22 -> 0 | I13: =I14+I18+I22 -> 0 | J13: =L13+O13 -> 0 | K13: =K14+K18+K22 -> 0 | L13: =L14+L18+L22 -> 0 | M13: =M14+M18+M22 -> 0 | N13: =N14+N18+N22 -> 0 | O13: =O14+O18+O22 -> 0 | P13: =E13+J13 -> 16370300 | Q13: =P13-'Дод1 доходи'!C18 -> 0
A14: І.І. За рахунок освітньої субвенції з державного бюджету місцевим бюджетам | E14: =F14+I14 -> 16894000 | F14: =F15 -> 16894000 | G14: =G15 -> 13848000 | H14: =H15 -> 0 | I14: =I15 -> 0 | J14: =L14+O14 -> 0 | K14: =K15 -> 0 | L14: =L15 -> 0 | M14: =M15 -> 0 | N14: =N15 -> 0 | O14: =O15 -> 0 | P14: =E14+J14 -> 16894000
A15: 0600000 | B15: 06 | D15: Відділ освіти, сім"ї, молоді та спорту, культури й туризму сільської ради (головний розпорядник) | E15: =F15+I15 -> 16894000 | F15: =F16 -> 16894000 | G15: =G16 -> 13848000 | H15: =H16 -> 0 | I15: =I16 -> 0 | J15: =L15+O15 -> 0 | K15: =K16 -> 0 | L15: =L16 -> 0 | M15: =M16 -> 0 | N15: =N16 -> 0 | O15: =O16 -> 0 | P15: =E15+J15 -> 16894000
A16: 0610000 | B16: 06 | D16: Відділ освіти, сім"ї, молоді та спорту, культури й туризму сільської ради (відповідальний розпорядник) | E16: =F16+I16 -> 16894000 | F16: =F17 -> 16894000 | G16: =G17 -> 13848000 | H16: =H17 -> 0 | I16: =I17 -> 0 | J16: =L16+O16 -> 0 | K16: =K17 -> 0 | L16: =L17 -> 0 | M16: =M17 -> 0 | N16: =N17 -> 0 | O16: =O17 -> 0 | P16: =E16+J16 -> 16894000
A17: 0611031 | B17: 1031 | C17: 0921 | D17: Надання загальної середньої освіти закладами загальної середньої освіти за рахунок освітньої субвенції | E17: =F17+I17 -> 16894000 | F17: 16894000 | G17: 13848000 | J17: =L17+O17 -> 0 | P17: =E17+J17 -> 16894000
A18: І.ІІ. За рахунок субвенції з державного бюджету місцевим бюджетам на надання державної підтримки особам з особливими освітніми потребами | E18: =F18+I18 -> 3000 | F18: =F19 -> 3000 | G18: =G19 -> 2460 | H18: =H19 -> 0 | I18: =I19 -> 0 | J18: =L18+O18 -> 0 | K18: =K19 -> 0 | L18: =L19 -> 0 | M18: =M19 -> 0 | N18: =N19 -> 0 | O18: =O19 -> 0 | P18: =E18+J18 -> 3000
A19: 0600000 | B19: 06 | D19: Відділ освіти, сім"ї, молоді та спорту, культури й туризму сільської ради (головний розпорядник) | E19: =F19+I19 -> 3000 | F19: =F20 -> 3000 | G19: =G20 -> 2460 | H19: =H20 -> 0 | I19: =I20 -> 0 | J19: =L19+O19 -> 0 | K19: =K20 -> 0 | L19: =L20 -> 0 | M19: =M20 -> 0 | N19: =N20 -> 0 | O19: =O20 -> 0 | P19: =E19+J19 -> 3000
A20: 0610000 | B20: 06 | D20: Відділ освіти, сім"ї, молоді та спорту, культури й туризму сільської ради (відповідальний розпорядник) | E20: =F20+I20 -> 3000 | F20: =F21 -> 3000 | G20: =G21 -> 2460 | H20: =H21 -> 0 | I20: =I21 -> 0 | J20: =L20+O20 -> 0 | K20: =K21 -> 0 | L20: =L21 -> 0 | M20: =M21 -> 0 | N20: =N21 -> 0 | O20: =O21 -> 0 | P20: =E20+J20 -> 3000
A21: 0611200 | B21: 1200 | C21: 0990 | D21: Проведення (надання) додаткових психолого-педагогічних і корекційно-розвиткових занять (послуг) за рахунок субвенції з державного бюджету місцевим бюджетам на надання державної підтримки особам з особливими освітніми потребами | E21: =F21+I21 -> 3000 | F21: =2460+540 -> 3000 | G21: 2460 | J21: =L21+O21 -> 0 | P21: =E21+J21 -> 3000
A22: І.ІІІ. За рахунок субвенції з державного бюджету місцевим бюджетам на здійснення доплат педагогічним працівникам закладів загальної середньої освіти | E22: =F22+I22 -> -526700 | F22: =F23 -> -526700 | G22: =G23 -> -458022.2 | H22: =H23 -> 0 | I22: =I23 -> 0 | J22: =L22+O22 -> 0 | K22: =K23 -> 0 | L22: =L23 -> 0 | M22: =M23 -> 0 | N22: =N23 -> 0 | O22: =O23 -> 0 | P22: =E22+J22 -> -526700
A23: 0600000 | B23: 06 | D23: Відділ освіти, сім"ї, молоді та спорту, культури й туризму сільської ради (головний розпорядник) | E23: =F23+I23 -> -526700 | F23: =F24 -> -526700 | G23: =G24 -> -458022.2 | H23: =H24 -> 0 | I23: =I24 -> 0 | J23: =L23+O23 -> 0 | K23: =K24 -> 0 | L23: =L24 -> 0 | M23: =M24 -> 0 | N23: =N24 -> 0 | O23: =O24 -> 0 | P23: =E23+J23 -> -526700
A24: 0610000 | B24: 06 | D24: Відділ освіти, сім"ї, молоді та спорту, культури й туризму сільської ради (відповідальний розпорядник) | E24: =F24+I24 -> -526700 | F24: =F25 -> -526700 | G24: =G25 -> -458022.2 | H24: =H25 -> 0 | I24: =I25 -> 0 | J24: =L24+O24 -> 0 | K24: =K25 -> 0 | L24: =L25 -> 0 | M24: =M25 -> 0 | N24: =N25 -> 0 | O24: =O25 -> 0 | P24: =E24+J24 -> -526700
A25: 0611600 | B25: 1600 | C25: 0990 | D25: Здійснення доплат педагогічним працівникам закладів загальної середньої освіти за рахунок субвенції з державного бюджету місцевим бюджетам | E25: =F25+I25 -> -526700 | F25: =-458022.2-68677.8 -> -526700 | G25: -458022.2 | J25: =L25+O25 -> 0 | P25: =E25+J25 -> -526700
A26: ІІІ. У межах загального обсягу видатків сільського бюджету | E26: =F26+I26 -> 300000 | F26: =F27+F39+F50+F57 -> 279100 | G26: =G27+G39+G50+G57 -> 179400 | H26: =H27+H39+H50+H57 -> 299100 | I26: =I27+I39+I50+I57 -> 20900 | J26: =L26+O26 -> -300000 | K26: =K27+K39+K50+K57 -> -300000 | L26: =L27+L39+L50+L57 -> 0 | M26: =M27+M39+M50+M57 -> 0 | N26: =N27+N39+N50+N57 -> 0 | O26: =O27+O39+O50+O57 -> -300000 | P26: =E26+J26 -> 0
A27: 0100000 | B27: 01 | D27: Ставненська сільська рада (головний розпорядник) | E27: =F27+I27 -> 0 | F27: =F28 -> -20900 | G27: =G28 -> 149500 | H27: =H28 -> 299100 | I27: =I28 -> 20900 | J27: =L27+O27 -> 0 | K27: =K28 -> 0 | L27: =L28 -> 0 | M27: =M28 -> 0 | N27: =N28 -> 0 | O27: =O28 -> 0 | P27: =E27+J27 -> 0
A28: 0110000 | B28: 01 | D28: Ставненська сільська рада (відповідальний виконавець) | E28: =F28+I28 -> 0 | F28: =F29+F34 -> -20900 | G28: =G29+G34 -> 149500 | H28: =H29+H34 -> 299100 | I28: =I29+I34 -> 20900 | J28: =L28+O28 -> 0 | K28: =K29 -> 0 | L28: =L29 -> 0 | M28: =M29 -> 0 | N28: =N29 -> 0 | O28: =O29 -> 0 | P28: =E28+J28 -> 0
D29: Зменшити призначення | E29: =F29+I29 -> -859100 | F29: =SUM(F30:F33) -> -680000 | G29: =SUM(G30:G33) -> 0 | H29: =SUM(H30:H33) -> 0 | I29: =SUM(I30:I33) -> -179100 | J29: =L29+O29 -> 0 | K29: =SUM(K30:K33) -> 0 | L29: =SUM(L30:L33) -> 0 | M29: =SUM(M30:M33) -> 0 | N29: =SUM(N30:N33) -> 0 | O29: =SUM(O30:O33) -> 0 | P29: =E29+J29 -> -859100
A30: 0110150 | B30: 0150 | C30: 0111 | D30: Організаційне, інформаційно-аналітичне та матеріально-технічне забезпечення діяльності обласної ради, районної ради, районної у місті ради (у разі її створення), міської, селищної, сільської рад | E30: =F30+I30 -> -77500 | F30: -77500 | J30: =L30+O30 -> 0 | P30: =E30+J30 -> -77500
A31: 0116030 | B31: 6030 | C31: 0620 | D31: Організація благоустрою населених пунктів | E31: =F31+I31 -> -388600 | F31: -300000 | I31: -88600 | J31: =L31+O31 -> 0 | P31: =E31+J31 -> -388600
A32: 0117461 | B32: 7461 | C32: 0456 | D32: Утримання та розвиток автомобільних доріг та дорожньої інфраструктури за рахунок коштів місцевого бюджету | E32: =F32+I32 -> -210500 | F32: -120000 | I32: -90500 | J32: =L32+O32 -> 0 | P32: =E32+J32 -> -210500
A33: 0118130 | B33: 8130 | C33: 0320 | D33: Забезпечення діяльності місцевої та добровільної пожежної охорони | E33: =F33+I33 -> -182500 | F33: =-61300-121200 -> -182500 | J33: =L33+O33 -> 0 | P33: =E33+J33 -> -182500
D34: Збільшити призначення | E34: =F34+I34 -> 859100 | F34: =SUM(F35:F38) -> 659100 | G34: =SUM(G35:G38) -> 149500 | H34: =SUM(H35:H38) -> 299100 | I34: =SUM(I35:I38) -> 200000 | J34: =L34+O34 -> 0 | K34: =SUM(K35:K38) -> 0 | L34: =SUM(L35:L38) -> 0 | M34: =SUM(M35:M38) -> 0 | N34: =SUM(N35:N38) -> 0 | O34: =SUM(O35:O38) -> 0 | P34: =E34+J34 -> 859100
A35: 0112152 | B35: 2152 | C35: 0763 | D35: Інші програми та заходи у сфері охорони здоров'я | E35: =F35+I35 -> 77500 | F35: 77500 | J35: =L35+O35 -> 0 | P35: =E35+J35 -> 77500
A36: 0116030 | B36: 6030 | C36: 0620 | D36: Організація благоустрою населених пунктів | E36: =F36+I36 -> 299100 | F36: 299100 | H36: 299100 | J36: =L36+O36 -> 0 | P36: =E36+J36 -> 299100
A37: 0118130 | B37: 8130 | C37: 0320 | D37: Забезпечення діяльності місцевої та добровільної пожежної охорони | E37: =F37+I37 -> 182500 | F37: =149500+33000 -> 182500 | G37: 149500 | J37: =L37+O37 -> 0 | P37: =E37+J37 -> 182500
A38: 0119800 | B38: 9800 | C38: 0180 | D38: Субвенція з місцевого бюджету державному бюджету на виконання програм соціально-економічного розвитку регіонів | E38: =F38+I38 -> 300000 | F38: 100000 | I38: 200000 | J38: =L38+O38 -> 0 | P38: =E38+J38 -> 300000
A39: 0600000 | B39: 06 | D39: Відділ освіти, сім"ї, молоді та спорту, культури й туризму сільської ради (головний розпорядник) | E39: =F39+I39 -> 300000 | F39: =F40 -> 300000 | G39: =G40 -> 0 | H39: =H40 -> 0 | I39: =I40 -> 0 | J39: =L39+O39 -> -300000 | K39: =K40 -> -300000 | L39: =L40 -> 0 | M39: =M40 -> 0 | N39: =N40 -> 0 | O39: =O40 -> -300000 | P39: =E39+J39 -> 0
A40: 0610000 | B40: 06 | D40: Відділ освіти, сім"ї, молоді та спорту, культури й туризму сільської ради (відповідальний розпорядник) | E40: =F40+I40 -> 300000 | F40: =F41+F46 -> 300000 | G40: =G41+G46 -> 0 | H40: =H41+H46 -> 0 | I40: =I41+I46 -> 0 | J40: =L40+O40 -> -300000 | K40: =K41+K46 -> -300000 | L40: =L41+L46 -> 0 | M40: =M41+M46 -> 0 | N40: =N41+N46 -> 0 | O40: =O41+O46 -> -300000 | P40: =E40+J40 -> 0
D41: Зменшити призначення | E41: =F41+I41 -> -289300 | F41: =SUM(F42:F45) -> -289300 | G41: =SUM(G42:G45) -> -237100 | H41: =SUM(H42:H45) -> 0 | I41: =SUM(I42:I45) -> 0 | J41: =L41+O41 -> -300000 | K41: =SUM(K42:K45) -> -300000 | L41: =SUM(L42:L45) -> 0 | M41: =SUM(M42:M45) -> 0 | N41: =SUM(N42:N45) -> 0 | O41: =SUM(O42:O45) -> -300000 | P41: =E41+J41 -> -589300
...

Sheet дод.4 трансф
C1: Додаток 4
C2: до рішення ХХХІІ сесії сільської ради VIІI скликання
C3: від 15.10.2026 року № 1118
C4: (пункт 4)
A6: Міжбюджетні трансферти на 2026 рік
A8: 0755400000
A9: (код бюджету)
A11: 1. Показники міжбюджетних трансфертів з інших бюджетів
D12: (грн)
A13: Код Класифікації доходу бюджету/ Код бюджету | B13: Найменування трансферту/Найменування бюджету-надавача міжбюджетного трансферту | D13: Усього
A14: 1 | B14: 2 | D14: 3
A15: І. Трансферти до загального фонду бюджету
A16: 41033900 | B16: Освітня субвенція з державного бюджету місцевим бюджетам | D16: 16894000
A17: 41035400 | B17: Субвенція з державного бюджету місцевим бюджетам на надання державної підтримки особам з особливими освітніми потребами | D17: 3000
A18: 41036300 | B18: Субвенція з державного бюджету місцевим бюджетам на здійснення доплат педагогічним працівникам закладів загальної середньої освіти | D18: -526700
A19: 9900000000 | B19: Державний бюджет | D19: =D16+D17+D18 -> 16370300
A20: ІІ. Трансферти до спеціального фонду бюджету
A21: Х | B21: УСЬОГО за розділами І, ІІ, у тому числі: | D21: =D22+D23 -> 16370300
A22: Х | B22: загальний фонд | D22: =D19 -> 16370300 | E22: =D22-'Дод1 доходи'!D12 -> 0
A23: Х | B23: спеціальний фонд | D23: =D20 -> 0 | E23: =D23-'Дод1 доходи'!E12 -> 0
A26: 2. Показники міжбюджетних трансфертів іншим бюджетам
D27: (грн)
A28: Код Програмної класифікації видатків та кредитування місцевого бюджету/Код бюджету | B28: Код Типової програмної класифікації видатків та кредитування місцевого бюджету | C28: Найменування трансферту/Найменування бюджету-отримувача міжбюджетного трансферту | D28: Усього
A29: 1 | B29: 2 | C29: 3 | D29: 4
A30: І. Трансферти із загального фонду бюджету
A31: 0119800 | B31: 9800 | C31: Субвенція з місцевого бюджету державному бюджету на виконання програм соціально-економічного розвитку регіонів | D31: 300000 | E31: =D31-'дод.6 програми '!G18 -> 0
A32: 9900000000 | B32: Державний бюджет | D32: =D31 -> 300000
A33: ІІ. Трансферти із спеціального фонду бюджету
A34: Х | B34: Х | C34: УСЬОГО за розділами І, ІІ, у тому числі: | D34: 300000
A35: Х | B35: Х | C35: загальний фонд | D35: 300000
A36: Х | B36: Х | C36: спеціальний фонд
A42: Секретар сільської ради | C42: Лариса РЕЙПАШІ

Sheet додат 5 розвиток
J1: Додаток 5
J2: до рішення ХХХІІ сесії сільської ради VIІI скликання
J3: від 15.10.2026 року № 1118
K4: (пункт 5)
A6: Зміни до додатку 6 рішення сільської ради "Про бюджет Ставненської сільської територіальної громади на 2026 рік" - "Обсяги публічних інвестицій у розрізі публічних інвестиційних проєктів та програм публічних інвестицій бюджету Ставненської сільської територіальної громади у 2026 році"
A7: 0755400000
A8: (код бюджету) | N8: (грн)
A9: № з/п | B9: Найменування галузі (сектору) для публічного інвестування / публічного інвестиційного проєкту / програми публічних інвестицій | C9: Унікальний ідентифікатор проєкту / програми | D9: Код Програмної класифікації видатків та кредитування місцевого бюджету | E9: Найменування бюджетної програми згідно з Типовою програмною класифікацією видатків та кредитування місцевого бюджету | F9: Найменування відповідального головного розпорядника коштів місцевого бюджету за галузь (сектор) / головного розпорядника коштів місцевого бюджету / відповідального виконавця | G9: Період реалізації публічного інвестиційного проєкту / програми публічних інвестицій (рік початку і завершення) | H9: Загальна вартість публічного інвестиційного проєкту / програми публічних інвестицій | I9: Обсяг бюджетних коштів, спрямованих на реалізацію публічного інвестиційного проєкту / програми публічних інвестицій у 2026 році | J9: у тому числі за рахунок:
J10: коштів місцевого бюджету | K10: міжбюджетних трансфертів з державного бюджету | L10: міжбюджетних трансфертів з інших місцевих бюджетів | M10: місцевих запозичень | N10: інших джерел
A11: 1 | B11: 2 | C11: 3 | D11: 4 | E11: 5 | F11: 6 | G11: 7 | H11: 8 | I11: 9 | J11: 10 | K11: 11 | L11: 12 | M11: 13 | N11: 14
A12: 1 | B12: Освіта і наука | C12: X | D12: X | E12: X | F12: Відділ освіти, сім'ї, молоді та спорту, культури й туризму Ставненської сільської ради | G12: X | H12: X | I12: =J12+K12+L12+M12+N12 -> 1574625 | J12: =J19+J21 -> 507925 | K12: =K19+K21 -> 1066700 | L12: =L19+L21 -> 0 | M12: =M19+M21 -> 0 | N12: =N19+N21 -> 0
A13: 1.1 | B13: Облаштуванння захисної споруди цивільного захисту-протирадіаційне укриття із впровадженням заходів з енергозбнреження розміщеного у Волосянківському ЗЗСО І-ІІІ ступенів | C13: 221025-299F1B5C | D13: X | E13: X | F13: Відділ освіти, сім'ї, молоді та спорту, культури й туризму Ставненської сільської ради | I13: =J13+K13+L13+M13+N13 -> 0 | J13: =J14 -> 0 | K13: =K14 -> 0 | L13: =L14 -> 0 | M13: =M14 -> 0 | N13: =N14 -> 0
A14: X | C14: X | D14: 0611300 | E14: Підготовка та реалізація публічних інвестиційних проектів / програм публічних інвестицій за рахунок коштів місцевого бюджету в галузі освіти | F14: Відділ освіти, сім'ї, молоді та спорту, культури й туризму Ставненської сільської ради | G14: X | H14: X | I14: =J14+K14+L14+M14+N14 -> 0
A15: 1.2 | B15: Придбання шкільного автобуса із врахуванням потреб дітей з обмеженими фізичничними можливостями | C15: 221025-BB89504F | D15: X | E15: X | F15: Відділ освіти, сім'ї, молоді та спорту, культури й туризму Ставненської сільської ради | H15: 0 | I15: =J15+K15+L15+M15+N15 -> 0 | J15: =J16 -> 0 | K15: =K16 -> 0 | L15: =L16 -> 0 | M15: =M16 -> 0 | N15: =N16 -> 0
A16: X | C16: X | D16: 0611300 | E16: Підготовка та реалізація публічних інвестиційних проектів / програм публічних інвестицій за рахунок коштів місцевого бюджету в галузі освіти | F16: Відділ освіти, сім'ї, молоді та спорту, культури й туризму Ставненської сільської ради | G16: X | H16: X | I16: =J16+K16+L16+M16+N16 -> 0
A17: 1.4 | B17: Облаштування кабінетів Волосянка, Ставне, Жорнава, засобами навчання в межах реформи "Нова Українська школа" | C17: 231025-C39A0289 | D17: X | E17: X | F17: Відділ освіти, сім'ї, молоді та спорту, культури й туризму Ставненської сільської ради | H17: 0 | I17: =J17+K17+L17+M17+N17 -> 0 | J17: =J18 -> 0 | K17: =K18 -> 0 | L17: =L18 -> 0 | M17: =M18 -> 0 | N17: =N18 -> 0
A18: X | C18: X | D18: 0611300 | E18: Підготовка та реалізація публічних інвестиційних проектів / програм публічних інвестицій за рахунок коштів місцевого бюджету в галузі освіти | F18: Відділ освіти, сім'ї, молоді та спорту, культури й туризму Ставненської сільської ради | G18: X | H18: X | I18: =J18+K18+L18+M18+N18 -> 0
A19: 1.1. | B19: Придбання шкільного автобуса із врахуванням потреб дітей з обмеженими фізичними можливостями | C19: 250326-B3D3D8F3 | D19: X | E19: X | F19: Відділ освіти, сім'ї, молоді та спорту, культури й туризму Ставненської сільської ради | G19: 2026 | H19: 4399998 | I19: =J19+K19+L19+M19+N19 -> 450000 | J19: =J20 -> 450000 | K19: =K20 -> 0 | L19: =L20 -> 0 | M19: =M20 -> 0 | N19: =N20 -> 0
A20: X | C20: X | D20: 0619720 | E20: Субвенція з місцевого бюджету на підготовку та реалізацію публічних інвестиційних проектів/ програм публічних інвестицій | F20: Відділ освіти, сім'ї, молоді та спорту, культури й туризму Ставненської сільської ради | G20: X | H20: X | I20: =J20+K20+L20+M20+N20 -> 450000 | J20: 450000
A21: 1.2. | B21: Створення освітнього простору у межах реформи "Нова українська школа"- Ставненської територіальної громади" | C21: 230326-AF4CFDE1 | D21: X | E21: X | F21: Відділ освіти, сім'ї, молоді та спорту, культури й туризму Ставненської сільської ради | G21: 2026 | H21: 1158525 | I21: =J21+K21+L21+M21+N21 -> 1124625 | J21: =J22+J23 -> 57925 | K21: =K22+K23 -> 1066700 | L21: =L22+L23 -> 0 | M21: =M22+M23 -> 0 | N21: =N22+N23 -> 0
A22: X | C22: X | D22: 0611183 | E22: Співфінансування заходів, що реалізуються за рахунок субвенції з державного бюджету місцевим бюджетам на реалізацію публічного інвестиційного проекту на забезпечення якісної, сучасної та доступної загальної середньої освіти «Нова українська школа» | F22: Відділ освіти, сім'ї, молоді та спорту, культури й туризму Ставненської сільської ради | G22: X | H22: X | I22: =J22+K22+L22+M22+N22 -> 57925 | J22: 57925
A23: X | C23: X | D23: 0611184 | E23: Виконання заходів, спрямованих на реалізацію публічного інвестиційного проекту на забезпечення якісної, сучасної та доступної загальної середньої освіти «Нова українська школа» за рахунок субвенції з державного бюджету місцевим бюджетам | F23: Відділ освіти, сім'ї, молоді та спорту, культури й туризму Ставненської сільської ради | G23: X | H23: X | I23: =J23+K23+L23+M23+N23 -> 1066700 | K23: 1066700
A24: X | C24: X | D24: X | E24: X | F24: X | G24: X | H24: УСЬОГО | I24: =I12 -> 1574625 | J24: =J12 -> 507925 | K24: =K12 -> 1066700 | L24: =L12 -> 0 | M24: =M12 -> 0 | N24: =N12 -> 0
B27: Секретар сільської ради | I27: Лариса РЕЙПАШІ

Sheet додат 5.1 розвиток
J1: Додаток 5.1
J2: до рішення ХХХІІ сесії сільської ради VIІI скликання
J3: від 15.10.2026 року № 1118
K4: (пункт 6)
A6: Зміни до обсягів публічних інвестицій у розрізі публічних інвестиційних проєктів та програм публічних інвестицій бюджету Ставненської сільської територіальної громади у 2026 році
A7: 0755400000
A8: (код бюджету) | N8: (грн)
A9: № з/п | B9: Найменування галузі (сектору) для публічного інвестування / публічного інвестиційного проєкту / програми публічних інвестицій | C9: Унікальний ідентифікатор проєкту / програми | D9: Код Програмної класифікації видатків та кредитування місцевого бюджету | E9: Найменування бюджетної програми згідно з Типовою програмною класифікацією видатків та кредитування місцевого бюджету | F9: Найменування відповідального головного розпорядника коштів місцевого бюджету за галузь (сектор) / головного розпорядника коштів місцевого бюджету / відповідального виконавця | G9: Період реалізації публічного інвестиційного проєкту / програми публічних інвестицій (рік початку і завершення) | H9: Загальна вартість публічного інвестиційного проєкту / програми публічних інвестицій | I9: Обсяг бюджетних коштів, спрямованих на реалізацію публічного інвестиційного проєкту / програми публічних інвестицій у 2026 році | J9: у тому числі за рахунок:
J10: коштів місцевого бюджету | K10: міжбюджетних трансфертів з державного бюджету | L10: міжбюджетних трансфертів з інших місцевих бюджетів | M10: місцевих запозичень | N10: інших джерел
A11: 1 | B11: 2 | C11: 3 | D11: 4 | E11: 5 | F11: 6 | G11: 7 | H11: 8 | I11: 9 | J11: 10 | K11: 11 | L11: 12 | M11: 13 | N11: 14
A12: 1 | B12: Освіта і наука | C12: X | D12: X | E12: X | F12: Відділ освіти, сім'ї, молоді та спорту, культури й туризму Ставненської сільської ради | G12: X | H12: X | I12: =J12+K12+L12+M12+N12 -> -300000 | J12: =J13 -> -300000 | K12: =K13 -> 0 | L12: =L13 -> 0 | M12: =M13 -> 0 | N12: =N13 -> 0
A13: 1.1. | B13: Впровадження заходів з енергозбереження та енергоефективності із заміною даху та теплотраси у Ставненському закладі загальної середньої освіти І-ІІІ ступенів | C13: 231025-2949E8BB | D13: X | E13: X | F13: Відділ освіти, сім'ї, молоді та спорту, культури й туризму Ставненської сільської ради | G13: 2026 | I13: =J13+K13+L13+M13+N13 -> -300000 | J13: =J14 -> -300000 | K13: =K14 -> 0 | L13: =L14 -> 0 | M13: =M14 -> 0 | N13: =N14 -> 0
A14: X | C14: X | D14: 0611300 | E14: Підготовка та реалізація публічних інвестиційних проектів / програм публічних інвестицій за рахунок коштів місцевого бюджету в галузі освіти | F14: Відділ освіти, сім'ї, молоді та спорту, культури й туризму Ставненської сільської ради | G14: X | H14: X | I14: =J14+K14+L14+M14+N14 -> -300000 | J14: -300000
A15: X | C15: X | D15: X | E15: X | F15: X | G15: X | H15: УСЬОГО | I15: =I12 -> -300000 | J15: =J12 -> -300000 | K15: =K12 -> 0 | L15: =L12 -> 0 | M15: =M12 -> 0 | N15: =N12 -> 0
B18: Секретар сільської ради | I18: Лариса РЕЙПАШІ

Sheet дод.6 програми 
H1: Додаток 6
G2: до рішення ХХХІІ сесії сільської ради VIІI скликання
G3: від 15.10.2026 року № 1118
H4: (пункт 7 )
A7: Зміни до розподілу витрат бюджету Ставненської сільської територіальної громади на реалізацію місцевих/регіональних програм у 2026 році
A8: 0755400000
A9: (код бюджету) | J9: (грн.)
A10: Код програмної класифікації видатків та кредитування місцевого бюджету | B10: Код Типової програмної класифікації видатків та кредитування місцевого бюджету | C10: Код Функціональної класифікації видатків та кредитування бюджету | D10: Найменування головного розпорядника коштів місцевого бюджету/ відповідального виконавця, найменування бюджетної програми згідно з Типовою програмною класифікацією видатків та кредитування місцевого бюджету | E10: Найменування місцевої програми | F10: Дата та номер документа, яким затверджено місцеву програму | G10: Усього | H10: Загальний фонд | I10: Спеціальний фонд
I11: усього | J11: у тому числі бюджет розвитку
A12: 1 | B12: 2 | C12: 3 | D12: 4 | E12: 5 | F12: 6 | G12: 7 | H12: 8 | I12: 9 | J12: 10
A13: 0100000 | B13: 01 | D13: Ставненська сільська рада (головний розпорядник) | G13: =H13+I13 -> 77500 | H13: =H14 -> 77500 | I13: =I14 -> 0 | J13: =J14 -> 0
A14: 0100000 | B14: 01 | D14: Ставненська сільська рада (відповідальний виконавець) | G14: =H14+I14 -> 77500 | H14: =H15+H16+H17+H18 -> 77500 | I14: =I16+I18 -> 0 | J14: =J16+J18 -> 0
A15: 0112152 | B15: 2152 | C15: 0763 | D15: Інші програми та заходи у сфері охорони здоров'я | E15: Програма забезпечення медичними препаратами хворих з нирковою недостатністю у Ставненській сільській раді на 2026- 2028 роки | F15: рішення сесії сільської ради від 22.08.2025 року № 905 | G15: =H15+I15 -> 77500 | H15: 77500
A16: 0116030 | B16: 6030 | C16: 0620 | D16: Організація благоустрою населених пунктів | E16: Програма благоустрою населених пунктів Ставненської сільської ради на 2025-2028 роки (зі змінами) | F16: рішення сесії сільської ради від 08.04.2025 року № 847 | G16: =H16+I16 -> -89500 | H16: =-388600+299100 -> -89500
A17: 0117461 | B17: 7461 | C17: 0456 | D17: Утримання та розвиток автомобільних доріг та дорожньої інфраструктури за рахунок коштів місцевого бюджету | E17: Програма будівництва, реконструкції, ремонту та утримання вулиць і доріг на території Ставненської сільської ради на 2026 – 2028 роки (зі змінами) | F17: рішення сесії сільської ради від 22.08.2025 року № 911 | G17: =H17+I17 -> -210500 | H17: -210500
A18: 0119800 | B18: 9800 | C18: 0180 | D18: Субвенція з місцевого бюджету державному бюджету на виконання програм соціально-економічного розвитку регіонів | G18: =H18+I18 -> 300000 | H18: =H19+H20 -> 300000 | I18: =SUM(I19:I20) -> 0 | J18: =SUM(J19:J20) -> 0
A19: -"- | B19: -"- | C19: -"- | D19: -"- | E19: Програма профілактики злочинності, забезпечення публічної безпеки і порядку на території Ставненської сільської ради на 2024-2026 роки (зі змінами) для відділення поліції №2 Ужгородського РУП ГУНП в Закарпатській області | F19: рішення сесії сільської ради від 14.06.2024 року № 666 | G19: =H19+I19 -> 100000 | H19: 100000
A20: -"- | B20: -"- | C20: -"- | D20: -"- | E20: Програма поліпшення матеріально-технічного забезпечення та підтримки військових частин на 2026 рік (зі змінами) (для військової частини 3115 Національної гвардії України) | F20: рішення сесії сільської ради від 05.03.2026 року №1030 | G20: =H20+I20 -> 200000 | H20: 200000
A21: 0600000 | B21: 06 | D21: Відділ освіти, сім"ї, молоді та спорту, культури й туризму сільської ради (головний розпорядник) | G21: =H21+I21 -> 300000 | H21: =H22 -> 300000 | I21: =I22 -> 0 | J21: =J22 -> 0
A22: 0610000 | B22: 06 | D22: Відділ освіти, сім"ї, молоді та спорту, культури й туризму сільської ради (відповідальний розпорядник) | G22: =H22+I22 -> 300000 | H22: =H23 -> 300000 | I22: =I23 -> 0 | J22: =J23 -> 0
A23: 0611021 | B23: 1021 | C23: 0921 | D23: Надання загальної середньої освіти закладами загальної середньої освіти за рахунок коштів місцевого бюджету | E23: Програма запровадження заходів з реалізації стратегії безбар’єрності на території Ставненської сільської ради на 2026-2028 роки | F23: рішення сесії сільської ради від 22.08.2025 року №910 | G23: =H23+I23 -> 300000 | H23: 300000
A24: 0800000 | B24: 08 | D24: Відділ соціального забезпечення сільської ради (головний розпорядник) | G24: =H24+I24 -> 0 | H24: =H25 -> 0 | I24: =I25 -> 0 | J24: =J25 -> 0
A25: 0810000 | B25: 08 | D25: Відділ соціального забезпечення сільської ради (відповідальний виконавець) | G25: =H25+I25 -> 0 | H25: =H26 -> 0 | I25: =I28 -> 0 | J25: =J28 -> 0
A26: 0813242 | B26: 3242 | C26: 1090 | D26: Інші заходи та заклади у сфері соціального захисту і соціального забезпечення | G26: =H26+I26 -> 0 | H26: =H27+H28 -> 0 | I26: =I27+I28 -> 0 | J26: =J27+J28 -> 0
A27: -"- | B27: -"- | C27: -"- | D27: -"- | E27: Програма соціальної підтримки ветеранів війни, військовослужбовців та членів їх сімей Ставненської сільської ради на 2026 – 2030 роки | F27: рішення сесії сільської ради від 22.08.2025 року № 922 | G27: =H27+I27 -> -50000 | H27: -50000
A28: -"- | B28: -"- | C28: -"- | D28: -"- | E28: Програма фінансової підтримки заходів у сфері соціального захисту вразливих верств населення Ставненської сільської ради Ужгородського району Закарпатської області на 2026-2030 роки (зі змінами) | F28: рішення сесії сільської ради від 22.08.2025 року № 921 | G28: =H28+I28 -> 50000 | H28: 50000
A29: РАЗОМ | G29: =H29+I29 -> 377500 | H29: =H13+H21+H24 -> 377500 | I29: =I13+I21+I24 -> 0 | J29: =J13+J21+J24 -> 0
B32: Секретар сільської ради | F32: Лариса РЕЙПАШІ
